BEGIN:VCALENDAR
VERSION:2.0
PRODID:-//Art Events Calendar - ECPv6.15.20//NONSGML v1.0//EN
CALSCALE:GREGORIAN
METHOD:PUBLISH
X-ORIGINAL-URL:https://arteventscalendar.lt
X-WR-CALDESC:Art Events Calendar renginiai
REFRESH-INTERVAL;VALUE=DURATION:PT1H
X-Robots-Tag:noindex
X-PUBLISHED-TTL:PT1H
BEGIN:VTIMEZONE
TZID:Europe/Vilnius
BEGIN:DAYLIGHT
TZOFFSETFROM:+0200
TZOFFSETTO:+0300
TZNAME:EEST
DTSTART:20250330T010000
END:DAYLIGHT
BEGIN:STANDARD
TZOFFSETFROM:+0300
TZOFFSETTO:+0200
TZNAME:EET
DTSTART:20251026T010000
END:STANDARD
BEGIN:DAYLIGHT
TZOFFSETFROM:+0200
TZOFFSETTO:+0300
TZNAME:EEST
DTSTART:20260329T010000
END:DAYLIGHT
BEGIN:STANDARD
TZOFFSETFROM:+0300
TZOFFSETTO:+0200
TZNAME:EET
DTSTART:20261025T010000
END:STANDARD
BEGIN:DAYLIGHT
TZOFFSETFROM:+0200
TZOFFSETTO:+0300
TZNAME:EEST
DTSTART:20270328T010000
END:DAYLIGHT
BEGIN:STANDARD
TZOFFSETFROM:+0300
TZOFFSETTO:+0200
TZNAME:EET
DTSTART:20271031T010000
END:STANDARD
END:VTIMEZONE
BEGIN:VEVENT
DTSTART;TZID=Europe/Vilnius:20260304T110000
DTEND;TZID=Europe/Vilnius:20260322T160000
DTSTAMP:20260422T000315
CREATED:20260304T181319Z
LAST-MODIFIED:20260316T104837Z
UID:983-1772622000-1774195200@arteventscalendar.lt
SUMMARY:Milos Kudinos paroda „Peizažas dygsneliu“ 
DESCRIPTION:Milos Kudinos meninio siuvinėjimo paroda „Peizažas dygsneliu“\nKviečiame Jus kovo 12 d. 17.30 val. atvykti į Milos Kudinos meninio siuvinėjimo darbų parodos „Peizažas dygsneliu“ atidarymą\, kuris vyks Marijos ir Jurgio Šlapelių muziejaus galerijoje. Renginys skiriamas Moldovos Respublikos nepriklausomybės 35-osioms metinėms paminėti. Iš parodos lankytojų parašytų minčių apie ekspoziciją konkurso būdu bus išrinkti du originaliausi atsiliepimai. Jų autoriai bus apdovanoti Milos Kudinos siuvinėtais paveikslais. \n  \nApie Milą Kudiną\nMila Kudina yra Moldovos liaudies meistrė. Jos darbai pelnė deramą pripažinimą Lietuvoje ir užsienyje. Milos siuvinėtos staltiesės\, servetėlės\, sieniniai kilimėliai buvo demonstruojami liaudies kūrybos mugėse Lenkijoje\, Vokietijoje\, Prancūzijoje bei Danijoje ir visuomet sulaukdavo didžiulio susidomėjimo. Jos darbuose vyrauja švelnūs augalijos pasaulio siužetai – žydi gėlės\, skraido ryškiaspalviai drugeliai\, gieda pasakų paukščiai. Milos menas patraukia dekoratyvumu\, pavergia spalvų gausa ir optimizmu. \n  \nM. Kudinos Facebook paskyra \n 
URL:https://arteventscalendar.lt/event/milos-kudinos-paroda-peizazas-dygsneliu/
LOCATION:Marijos ir Jurgio Šlapelių namas-muziejus\, Adresas: Pilies g. 40\, Vilnius\, 01123
ATTACH;FMTTYPE=image/jpeg:https://arteventscalendar.lt/wp-content/uploads/2026/03/mila-kudina.jpeg
ORGANIZER;CN="Marijos ir Jurgio %C5%A0lapeli%C5%B3 namas-muziejus":MAILTO:slapeliumuziejus@gmail.com
END:VEVENT
BEGIN:VEVENT
DTSTART;TZID=Europe/Vilnius:20260320T120000
DTEND;TZID=Europe/Vilnius:20260320T170000
DTSTAMP:20260422T000316
CREATED:20260316T104901Z
LAST-MODIFIED:20260316T115046Z
UID:1098-1774008000-1774026000@arteventscalendar.lt
SUMMARY:Milos Kudinos siuvinėjimo dirbtuvės
DESCRIPTION:Milos Kudinos siuvinėjimo dirbtuvės\nKovo 20 d. 12 val. muziejaus galerijoje vyks siuvinėjimo dirbtuvės-edukacija\, kurias ves meninio siuvinėjimo meistrė Mila Kudina. \nKviečiame visus norinčius – ir seniai siuvinėjančius\, ir niekada nebandžiusius! \nPrašytume užsiregistruoti laiškeliu (slapeliumuziejus@gmail.com) arba telefonu +370 686 34622. \nLauksime visų. \n  \nM. Kudinos Facebook paskyra \n 
URL:https://arteventscalendar.lt/event/milos-kudinos-siuvinejimo-dirbtuves/
LOCATION:Marijos ir Jurgio Šlapelių namas-muziejus\, Adresas: Pilies g. 40\, Vilnius\, 01123
ATTACH;FMTTYPE=image/jpeg:https://arteventscalendar.lt/wp-content/uploads/2026/03/Mila-Kudina-2.jpeg
ORGANIZER;CN="Marijos ir Jurgio %C5%A0lapeli%C5%B3 namas-muziejus":MAILTO:slapeliumuziejus@gmail.com
END:VEVENT
END:VCALENDAR